BEGIN:VCALENDAR
VERSION:2.0
PRODID:-//Revista Classic Show, a sua revista de carros antigos - ECPv5.9.0//NONSGML v1.0//EN
CALSCALE:GREGORIAN
METHOD:PUBLISH
X-WR-CALNAME:Revista Classic Show, a sua revista de carros antigos
X-ORIGINAL-URL:https://www.classicshow.com.br/site
X-WR-CALDESC:Eventos para Revista Classic Show, a sua revista de carros antigos
BEGIN:VTIMEZONE
TZID:America/Sao_Paulo
BEGIN:STANDARD
TZOFFSETFROM:-0200
TZOFFSETTO:-0300
TZNAME:BRT
DTSTART:20220220T020000
END:STANDARD
BEGIN:DAYLIGHT
TZOFFSETFROM:-0300
TZOFFSETTO:-0200
TZNAME:BRST
DTSTART:20221016T030000
END:DAYLIGHT
END:VTIMEZONE
BEGIN:VEVENT
DTSTART;VALUE=DATE:20220722
DTEND;VALUE=DATE:20220725
DTSTAMP:20260425T152108
CREATED:20220713T125909Z
LAST-MODIFIED:20220713T125909Z
UID:20312-1658448000-1658707199@www.classicshow.com.br
SUMMARY:XVIII Encontro de Carros Antigos de Campos dos Goytacazes
DESCRIPTION:
URL:https://www.classicshow.com.br/site/eventos/xviii-encontro-de-carros-antigos-de-campos-dos-goytacazes/
LOCATION:Shopping Boulevard – Campos dos Goytacazes/RJ
ATTACH;FMTTYPE=image/jpeg:https://www.classicshow.com.br/site/wp-content/uploads/2022/07/18o-Encontro-de-Carros-Antigos-de-Campos.jpg
ORGANIZER;CN="Clube%20do%20Autom%C3%B3vel%20Antigo%20de%20Campos%20RJ":MAILTO:cautoantigocampos@hotmail.com
END:VEVENT
END:VCALENDAR