BEGIN:VCALENDAR
VERSION:2.0
PRODID:-//Revista Classic Show, a sua revista de carros antigos - ECPv5.9.0//NONSGML v1.0//EN
CALSCALE:GREGORIAN
METHOD:PUBLISH
X-WR-CALNAME:Revista Classic Show, a sua revista de carros antigos
X-ORIGINAL-URL:https://www.classicshow.com.br/site
X-WR-CALDESC:Eventos para Revista Classic Show, a sua revista de carros antigos
BEGIN:VTIMEZONE
TZID:America/Sao_Paulo
BEGIN:STANDARD
TZOFFSETFROM:-0200
TZOFFSETTO:-0300
TZNAME:BRT
DTSTART:20190217T020000
END:STANDARD
BEGIN:DAYLIGHT
TZOFFSETFROM:-0300
TZOFFSETTO:-0200
TZNAME:BRST
DTSTART:20191020T030000
END:DAYLIGHT
END:VTIMEZONE
BEGIN:VEVENT
DTSTART;VALUE=DATE:20190802
DTEND;VALUE=DATE:20190805
DTSTAMP:20260422T084546
CREATED:20190130T165515Z
LAST-MODIFIED:20190130T165515Z
UID:14898-1564704000-1564963199@www.classicshow.com.br
SUMMARY:XII Poços Classic Car - Poços de Caldas/MG
DESCRIPTION:
URL:https://www.classicshow.com.br/site/eventos/xii-pocos-classic-car-pocos-de-caldas-mg/
END:VEVENT
END:VCALENDAR