BEGIN:VCALENDAR
VERSION:2.0
PRODID:-//Revista Classic Show, a sua revista de carros antigos - ECPv5.9.0//NONSGML v1.0//EN
CALSCALE:GREGORIAN
METHOD:PUBLISH
X-WR-CALNAME:Revista Classic Show, a sua revista de carros antigos
X-ORIGINAL-URL:https://www.classicshow.com.br/site
X-WR-CALDESC:Eventos para Revista Classic Show, a sua revista de carros antigos
BEGIN:VTIMEZONE
TZID:America/Sao_Paulo
BEGIN:STANDARD
TZOFFSETFROM:-0200
TZOFFSETTO:-0300
TZNAME:BRT
DTSTART:20160221T020000
END:STANDARD
BEGIN:DAYLIGHT
TZOFFSETFROM:-0300
TZOFFSETTO:-0200
TZNAME:BRST
DTSTART:20161016T030000
END:DAYLIGHT
END:VTIMEZONE
BEGIN:VEVENT
DTSTART;VALUE=DATE:20160325
DTEND;VALUE=DATE:20160328
DTSTAMP:20260425T144543
CREATED:20160113T133638Z
LAST-MODIFIED:20160113T133638Z
UID:5396-1458864000-1459123199@www.classicshow.com.br
SUMMARY:Pé na Tábua 2016 - Corrida de Calhambeques
DESCRIPTION:
URL:https://www.classicshow.com.br/site/eventos/pe-na-tabua-2016-corrida-de-calhambeques/
LOCATION:Speed Park\, Franca\, SP\, Brasil
ATTACH;FMTTYPE=image/jpeg:https://www.classicshow.com.br/site/wp-content/uploads/2016/01/carroantigo-franca2016.jpg
ORGANIZER;CN="P%C3%A9%20na%20T%C3%A1bua":MAILTO:contato@penatabua.com
END:VEVENT
END:VCALENDAR