BEGIN:VCALENDAR
VERSION:2.0
PRODID:-//Revista Classic Show, a sua revista de carros antigos - ECPv5.9.0//NONSGML v1.0//EN
CALSCALE:GREGORIAN
METHOD:PUBLISH
X-WR-CALNAME:Revista Classic Show, a sua revista de carros antigos
X-ORIGINAL-URL:https://www.classicshow.com.br/site
X-WR-CALDESC:Eventos para Revista Classic Show, a sua revista de carros antigos
BEGIN:VTIMEZONE
TZID:America/Sao_Paulo
BEGIN:STANDARD
TZOFFSETFROM:-0200
TZOFFSETTO:-0300
TZNAME:BRT
DTSTART:20220220T020000
END:STANDARD
BEGIN:DAYLIGHT
TZOFFSETFROM:-0300
TZOFFSETTO:-0200
TZNAME:BRST
DTSTART:20221016T030000
END:DAYLIGHT
END:VTIMEZONE
BEGIN:VEVENT
DTSTART;VALUE=DATE:20220724
DTEND;VALUE=DATE:20220725
DTSTAMP:20260425T135431
CREATED:20220720T124807Z
LAST-MODIFIED:20220720T124930Z
UID:20383-1658620800-1658707199@www.classicshow.com.br
SUMMARY:Encontros de Veículos Antigos - São Gonçalo/RJ
DESCRIPTION:
URL:https://www.classicshow.com.br/site/eventos/encontros-de-veiculos-antigos-sao-goncalo-rj/
LOCATION:Centro de Tradições Nordestinas
ATTACH;FMTTYPE=image/jpeg:https://www.classicshow.com.br/site/wp-content/uploads/2022/07/Sao-Goncalo-RJ-Encontro-de-Autos-Antigos.jpg
END:VEVENT
END:VCALENDAR