BEGIN:VCALENDAR
VERSION:2.0
PRODID:-//Revista Classic Show, a sua revista de carros antigos - ECPv5.9.0//NONSGML v1.0//EN
CALSCALE:GREGORIAN
METHOD:PUBLISH
X-WR-CALNAME:Revista Classic Show, a sua revista de carros antigos
X-ORIGINAL-URL:https://www.classicshow.com.br/site
X-WR-CALDESC:Eventos para Revista Classic Show, a sua revista de carros antigos
BEGIN:VTIMEZONE
TZID:America/Sao_Paulo
BEGIN:STANDARD
TZOFFSETFROM:-0200
TZOFFSETTO:-0300
TZNAME:BRT
DTSTART:20160221T020000
END:STANDARD
BEGIN:DAYLIGHT
TZOFFSETFROM:-0300
TZOFFSETTO:-0200
TZNAME:BRST
DTSTART:20161016T030000
END:DAYLIGHT
END:VTIMEZONE
BEGIN:VEVENT
DTSTART;TZID=America/Sao_Paulo:20160320T090000
DTEND;TZID=America/Sao_Paulo:20160320T140000
DTSTAMP:20260425T161446
CREATED:20160223T131527Z
LAST-MODIFIED:20160223T131527Z
UID:5802-1458464400-1458482400@www.classicshow.com.br
SUMMARY:Encontros de Carros Antigos 2016 em Itatiba/SP
DESCRIPTION:
URL:https://www.classicshow.com.br/site/eventos/encontros-de-carros-antigos-2016-em-itatibasp/
LOCATION:Parque Luís Latorre\, Itatiba\, SP\, Brasil
ATTACH;FMTTYPE=image/jpeg:https://www.classicshow.com.br/site/wp-content/uploads/2016/02/carroantigo-itatiba2016.jpg
ORGANIZER;CN="Amigos%20do%20Carro%20Antigo%20de%20Itatiba%2FSP":MAILTO:amigosdocarroantigodeitatiba@gmail.com
END:VEVENT
END:VCALENDAR