BEGIN:VCALENDAR
VERSION:2.0
PRODID:-//Revista Classic Show, a sua revista de carros antigos - ECPv5.9.0//NONSGML v1.0//EN
CALSCALE:GREGORIAN
METHOD:PUBLISH
X-WR-CALNAME:Revista Classic Show, a sua revista de carros antigos
X-ORIGINAL-URL:https://www.classicshow.com.br/site
X-WR-CALDESC:Eventos para Revista Classic Show, a sua revista de carros antigos
BEGIN:VTIMEZONE
TZID:America/Sao_Paulo
BEGIN:STANDARD
TZOFFSETFROM:-0200
TZOFFSETTO:-0300
TZNAME:BRT
DTSTART:20190217T020000
END:STANDARD
BEGIN:DAYLIGHT
TZOFFSETFROM:-0300
TZOFFSETTO:-0200
TZNAME:BRST
DTSTART:20191020T030000
END:DAYLIGHT
END:VTIMEZONE
BEGIN:VEVENT
DTSTART;VALUE=DATE:20190803
DTEND;VALUE=DATE:20190805
DTSTAMP:20260422T101424
CREATED:20180906T135507Z
LAST-MODIFIED:20180906T135507Z
UID:13355-1564790400-1564963199@www.classicshow.com.br
SUMMARY:7º Encontro de Veículos Antigos e Clássicos - Lages/SC
DESCRIPTION:
URL:https://www.classicshow.com.br/site/eventos/7o-encontro-de-veiculos-antigos-e-classicos-lages-sc/
LOCATION:Parque de Exposições Conta Dinheiro\, Lages\, SC
ATTACH;FMTTYPE=image/jpeg:https://www.classicshow.com.br/site/wp-content/uploads/2018/09/lages.jpg
END:VEVENT
END:VCALENDAR