BEGIN:VCALENDAR
VERSION:2.0
PRODID:-//Revista Classic Show, a sua revista de carros antigos - ECPv5.9.0//NONSGML v1.0//EN
CALSCALE:GREGORIAN
METHOD:PUBLISH
X-WR-CALNAME:Revista Classic Show, a sua revista de carros antigos
X-ORIGINAL-URL:https://www.classicshow.com.br/site
X-WR-CALDESC:Eventos para Revista Classic Show, a sua revista de carros antigos
BEGIN:VTIMEZONE
TZID:America/Sao_Paulo
BEGIN:STANDARD
TZOFFSETFROM:-0200
TZOFFSETTO:-0300
TZNAME:BRT
DTSTART:20190217T020000
END:STANDARD
BEGIN:DAYLIGHT
TZOFFSETFROM:-0300
TZOFFSETTO:-0200
TZNAME:BRST
DTSTART:20191020T030000
END:DAYLIGHT
END:VTIMEZONE
BEGIN:VEVENT
DTSTART;VALUE=DATE:20190804
DTEND;VALUE=DATE:20190805
DTSTAMP:20260422T115146
CREATED:20190704T125740Z
LAST-MODIFIED:20190704T125740Z
UID:16002-1564876800-1564963199@www.classicshow.com.br
SUMMARY:6º Encontro de Veículos Antigos & Clássicos -  Cerquilho/SP
DESCRIPTION:
URL:https://www.classicshow.com.br/site/eventos/6o-encontro-de-veiculos-antigos-classicos-cerquilho-sp/
LOCATION:Centro Municipal de Eventos – Cidade das Rosas\, Cerquilho\, SP\, Brasil
ATTACH;FMTTYPE=image/jpeg:https://www.classicshow.com.br/site/wp-content/uploads/2019/07/cerquilho.jpg
ORGANIZER;CN="Clube%20Amigos%20Antigomobilistas%20de%20Cerquilho":MAILTO:antigomobilistas.cerquilho@yahoo.com.br
END:VEVENT
END:VCALENDAR