BEGIN:VCALENDAR
VERSION:2.0
PRODID:-//Revista Classic Show, a sua revista de carros antigos - ECPv5.9.0//NONSGML v1.0//EN
CALSCALE:GREGORIAN
METHOD:PUBLISH
X-WR-CALNAME:Revista Classic Show, a sua revista de carros antigos
X-ORIGINAL-URL:https://www.classicshow.com.br/site
X-WR-CALDESC:Eventos para Revista Classic Show, a sua revista de carros antigos
BEGIN:VTIMEZONE
TZID:America/Sao_Paulo
BEGIN:STANDARD
TZOFFSETFROM:-0200
TZOFFSETTO:-0300
TZNAME:BRT
DTSTART:20190217T020000
END:STANDARD
BEGIN:DAYLIGHT
TZOFFSETFROM:-0300
TZOFFSETTO:-0200
TZNAME:BRST
DTSTART:20191020T030000
END:DAYLIGHT
END:VTIMEZONE
BEGIN:VEVENT
DTSTART;VALUE=DATE:20190626
DTEND;VALUE=DATE:20190627
DTSTAMP:20260419T181359
CREATED:20190523T141056Z
LAST-MODIFIED:20190523T141056Z
UID:15623-1561507200-1561593599@www.classicshow.com.br
SUMMARY:4º Encontro de Carros Antigos São Pedro - São José dos Pinhais/PR
DESCRIPTION:
URL:https://www.classicshow.com.br/site/eventos/4o-encontro-de-carros-antigos-sao-pedro-sao-jose-dos-pinhais-pr/
ATTACH;FMTTYPE=image/jpeg:https://www.classicshow.com.br/site/wp-content/uploads/2019/05/festadesp.jpg
ORGANIZER;CN="Old%20Eventos":MAILTO:paulofoggiatto@gmail.com
END:VEVENT
END:VCALENDAR