BEGIN:VCALENDAR
VERSION:2.0
PRODID:-//Revista Classic Show, a sua revista de carros antigos - ECPv5.9.0//NONSGML v1.0//EN
CALSCALE:GREGORIAN
METHOD:PUBLISH
X-WR-CALNAME:Revista Classic Show, a sua revista de carros antigos
X-ORIGINAL-URL:https://www.classicshow.com.br/site
X-WR-CALDESC:Eventos para Revista Classic Show, a sua revista de carros antigos
BEGIN:VTIMEZONE
TZID:America/Sao_Paulo
BEGIN:STANDARD
TZOFFSETFROM:-0200
TZOFFSETTO:-0300
TZNAME:BRT
DTSTART:20190217T020000
END:STANDARD
BEGIN:DAYLIGHT
TZOFFSETFROM:-0300
TZOFFSETTO:-0200
TZNAME:BRST
DTSTART:20191020T030000
END:DAYLIGHT
END:VTIMEZONE
BEGIN:VEVENT
DTSTART;VALUE=DATE:20190713
DTEND;VALUE=DATE:20190714
DTSTAMP:20260420T010715
CREATED:20190523T133550Z
LAST-MODIFIED:20190523T133550Z
UID:15602-1562976000-1563062399@www.classicshow.com.br
SUMMARY:2º Encontro Fiat 147 e Derivados - Sorocaba/SP
DESCRIPTION:
URL:https://www.classicshow.com.br/site/eventos/2o-encontro-fiat-147-e-derivados-sorocaba-sp/
ATTACH;FMTTYPE=image/jpeg:https://www.classicshow.com.br/site/wp-content/uploads/2019/05/sorocaba1.jpg
ORGANIZER;CN="Garagem%20das%20Carangas":MAILTO:silvio@garagemdascarangas.com.br
END:VEVENT
END:VCALENDAR