BEGIN:VCALENDAR
VERSION:2.0
PRODID:-//Revista Classic Show, a sua revista de carros antigos - ECPv5.9.0//NONSGML v1.0//EN
CALSCALE:GREGORIAN
METHOD:PUBLISH
X-WR-CALNAME:Revista Classic Show, a sua revista de carros antigos
X-ORIGINAL-URL:https://www.classicshow.com.br/site
X-WR-CALDESC:Eventos para Revista Classic Show, a sua revista de carros antigos
BEGIN:VTIMEZONE
TZID:America/Sao_Paulo
BEGIN:STANDARD
TZOFFSETFROM:-0200
TZOFFSETTO:-0300
TZNAME:BRT
DTSTART:20160221T020000
END:STANDARD
BEGIN:DAYLIGHT
TZOFFSETFROM:-0300
TZOFFSETTO:-0200
TZNAME:BRST
DTSTART:20161016T030000
END:DAYLIGHT
END:VTIMEZONE
BEGIN:VEVENT
DTSTART;VALUE=DATE:20160402
DTEND;VALUE=DATE:20160404
DTSTAMP:20260425T161444
CREATED:20160111T124426Z
LAST-MODIFIED:20160219T173028Z
UID:5360-1459555200-1459727999@www.classicshow.com.br
SUMMARY:18º Encontro de Carros Antigos de São Marcos/RS
DESCRIPTION:Visite o stand da Revista Classic Show\, presente no evento!
URL:https://www.classicshow.com.br/site/eventos/18o-encontro-de-carros-antigos-de-sao-marcosrs/
LOCATION:Praça Dante Marcucci\, São Marcos\, RS\, Brasil
ATTACH;FMTTYPE=image/jpeg:https://www.classicshow.com.br/site/wp-content/uploads/2016/01/carroantigo-saomarcos2016-oficial.jpg
ORGANIZER;CN="Veteran%20Ve%C3%ADculos%20Club%20de%20S%C3%A3o%20Marcos":MAILTO:servibras@nsol.com.br
END:VEVENT
END:VCALENDAR